BEGIN:VCALENDAR
VERSION:2.0
PRODID:DPCALENDAR
CALSCALE:GREGORIAN
X-WR-TIMEZONE:UTC
BEGIN:VEVENT
DTSTART;VALUE=DATE:20220311
DTEND;VALUE=DATE:20220312
UID:a228f6a855c8057e23f02ac0f9a16801
RECURRENCE-ID;VALUE=DATE:20220311
SUMMARY:Adorazione eucaristica e Via Crucis
DTSTAMP:20260425T145934Z
DESCRIPTION:[evento]
X-ALT-DESC;FMTTYPE=text/html:[evento]
LOCATION:
X-ACCESS:1
X-MODIFIED:20260425T145934Z
X-HITS:0
X-URL:https://www.google.com/calendar/event?eid=Z2E4dXI2NjZvZ242ajRhdjg5YTg0YXBmbGNfMjAyMjAzMTEgMmU2dWtrOWE1bzhka2JsYXFuam9pZGhianNAZw
X-COLOR:7ae7bf
END:VEVENT
END:VCALENDAR