BEGIN:VCALENDAR
VERSION:2.0
PRODID:DPCALENDAR
CALSCALE:GREGORIAN
X-WR-TIMEZONE:UTC
BEGIN:VEVENT
DTSTART:20211017T070000Z
DTEND:20211017T080000Z
UID:598038b11e4d01ae5103cccb8198c1a3
RECURRENCE-ID:20211017T070000Z
SUMMARY:S. Messa
DTSTAMP:20260425T213436Z
DESCRIPTION:
X-ALT-DESC;FMTTYPE=text/html:
LOCATION:
X-ACCESS:1
X-MODIFIED:20260425T213436Z
X-HITS:0
X-URL:https://www.google.com/calendar/event?eid=XzYwcTMwYzFnNjBvMzBlMWk2MG80YWMxZzYwcmo4Z3BsODhyajJjMWg4NHMzNGg5ZzYwczMwYzFnNjBvMzBjMWc3MG8zNmhpNjcwc2s4ZHBoNmNzMzJkaGs3NHNqMmhoajg4cjM4ZGhqOGNyazZoMWo2c3NqMmMxZzYwbzMwYzFnNjByNDRlYTU4cDIzMGdhNTZrcGplY3BrOGwxNGFlOWs4aDJrMmdwbTYxMGsyY2hvOGwxZ18yMDIxMTAxN1QwNzAwMDBaIDJlNnVrazlhNW84ZGtibGFxbmpvaWRoYmpzQGc
X-COLOR:
END:VEVENT
END:VCALENDAR